Workbook

Sheet MENU
D1: PENGELOLAAN BARANG DAN INVENTARIS

Sheet BUKU PEMBELIAN
A1: BUKU PEMBELIAN
A2: TAHUN 2022
A5: NO | B5: HARI/TANGGAL | C5: NO FAKTUR | D5: NAMA BARANG | E5: SATUAN | F5: VOLUME | G5: HARGA
A6: 1 | B6: senin/3 Jan 2022 | C6: 001 | D6: SPIDOL | E6: BUAH | F6: 12 | G6: 10000
A7: 2 | C7: 002 | D7: TINTA SPIDOL | E7: KOTAK | F7: 6 | G7: 50000
A8: 3 | C8: 003 | D8: KERTAS A 4 | E8: RIM | F8: 5 | G8: 45000
A9: 4 | C9: 004 | D9: KLEP | E9: BUAH | F9: 3 | G9: 10000
A10: 5 | C10: 005 | D10: ANAK KLEP | E10: KOTAK | F10: 2 | G10: 5500
B18: Mengetahui : | E18: Padang, 2022
B19: kepala SMA…. | E19: Bagian Inventaris

Sheet Klep habis pakai
A1: BUKU BARANG HABIS PAKAI
A2: SMA…
A3: TAHUN 2022
A5: NAMA BARANG : | C5: KLEP
A7: NO | B7: HARI/TGL | C7: REFERNSI | D7: URAIAN | E7: KWANTITAS/UNIT | G7: SISA
E8: MASUK | F8: KELUAR
A9: 1 | B9: Senin/3 Jan 2021 | C9: ='BUKU PEMBELIAN'!C9 -> 004 | D9: Dari Toko | E9: ='BUKU PEMBELIAN'!F9 -> 3 | G9: =SUM(E9-F9) -> 3
D10: Katas | F10: 1 | G10: =SUM(G9-F10) -> 2
B17: Mengetahui : | E17: Padang, 2022
B18: kepala SMA…. | E18: Bagian Inventaris

Sheet Tinta Spidol Habis Pakai
A1: BUKU BARANG HABIS PAKAI
A2: SMA…
A3: TAHUN 2022
A5: NAMA BARANG : | C5: Tinta Spidol
A7: NO | B7: HARI/TGL | C7: REFERNSI | D7: URAIAN | E7: KWANTITAS/UNIT | G7: SISA
E8: MASUK | F8: KELUAR
A9: 1 | B9: Selasa/4 Jan 2022 | C9: ='BUKU PEMBELIAN'!C7 -> 002 | D9: Dari Toko | E9: ='BUKU PEMBELIAN'!F7 -> 6 | G9: =SUM(E9-F9) -> 6
D10: Wakil Kurikulum | F10: 3 | G10: =SUM(G9-F10) -> 3
D11: Kepala Sekolah | G11: =SUM(G10-F11) -> 3
B17: Mengetahui : | E17: Padang, 2022
B18: kepala SMA…. | E18: Bagian Inventaris

Sheet Kertas Habis Pakai 
A1: BUKU BARANG HABIS PAKAI
A2: SMA…
A3: TAHUN 2022
A5: NAMA BARANG : | C5: KERTAS
A7: NO | B7: HARI/TGL | C7: REFERNSI | D7: URAIAN | E7: KWANTITAS/UNIT | G7: SISA
E8: MASUK | F8: KELUAR
A9: 1 | B9: Senin/3 Jan 2021 | C9: ='BUKU PEMBELIAN'!C8 -> 003 | D9: Dari Toko | E9: ='BUKU PEMBELIAN'!F8 -> 5 | G9: =SUM(E9-F9) -> 5
D10: Wakil Kurikulum | F10: 3 | G10: =SUM(G9-F10) -> 2
D11: Kepala Sekolah | F11: 1 | G11: =SUM(G10-F11) -> 1
B17: Mengetahui : | E17: Padang, 2022
B18: kepala SMA…. | E18: Bagian Inventaris

Sheet SPIDOL habis pakai
A1: BUKU BARANG HABIS PAKAI
A2: SMA…
A3: TAHUN 2022
A5: NAMA BARANG : | C5: SPIDOL
A7: NO | B7: HARI/TGL | C7: REFERNSI | D7: URAIAN | E7: KWANTITAS/UNIT | G7: SISA
E8: MASUK | F8: KELUAR
A9: 1 | B9: Senin/3 Jan 2021 | C9: ='BUKU PEMBELIAN'!C6 -> 001 | D9: Dari Toko | E9: ='BUKU PEMBELIAN'!F6 -> 12 | G9: =SUM(E9-F9) -> 12
D10: Wakil Kurikulum | F10: 10 | G10: =SUM(G9-F10) -> 2
D11: Kepala Sekolah | F11: 1 | G11: =SUM(G10-F11) -> 1
B17: Mengetahui : | E17: Padang, 2022
B18: kepala SMA…. | E18: Bagian Inventaris

Sheet 4. BUKU PERSEDIAAN
A1: BUKU PERSEDIAAN BARANG
A2: SMA….........
A3: TAHUN 2022
A5: NO | B5: HARI/TANGGAL | C5: NAMA BARANG | D5: JUMLAH PERSEDIAAN
D6: MENURUT ADMINISTRASI
D7: JUMLAH PERSEDIAAN | E7: SATUAN | F7: HARGA | G7: JUMLAH HARGA
A8: 1 | B8: Rabu/5 Januari 2022 | C8: Spidol | D8: ='SPIDOL habis pakai'!G11 -> 1 | E8: ='BUKU PEMBELIAN'!E6 -> BUAH | F8: ='BUKU PEMBELIAN'!G6 -> 10000 | G8: =SUM(D8*F8) -> 10000
C9: Kertas | D9: ='Kertas Habis Pakai '!G11 -> 1 | E9: ='BUKU PEMBELIAN'!E8 -> RIM | F9: ='BUKU PEMBELIAN'!G8 -> 45000 | G9: =SUM(D9*F9) -> 45000
C10: Tinta Spidol | D10: ='Tinta Spidol Habis Pakai'!G11 -> 3 | E10: ='BUKU PEMBELIAN'!E7 -> KOTAK | F10: ='BUKU PEMBELIAN'!G7 -> 50000 | G10: =SUM(D10*F10) -> 150000
C11: Klep | D11: ='Klep habis pakai'!G10 -> 2 | E11: ='BUKU PEMBELIAN'!E9 -> BUAH | F11: ='BUKU PEMBELIAN'!G9 -> 10000 | G11: =SUM(D11*F11) -> 20000
C12: Anak Klep | D12: ='Klep habis pakai'!G10 -> 2 | E12: ='BUKU PEMBELIAN'!E10 -> KOTAK | F12: ='BUKU PEMBELIAN'!G10 -> 5500 | G12: =SUM(D12*F12) -> 11000
D13: ='Klep habis pakai'!G11 -> 0 | E13: ='BUKU PEMBELIAN'!E11 -> 0 | F13: ='BUKU PEMBELIAN'!G11 -> 0 | G13: =SUM(D13*F13) -> 0
D14: ='Klep habis pakai'!G12 -> 0 | E14: ='BUKU PEMBELIAN'!E12 -> 0 | F14: ='BUKU PEMBELIAN'!G12 -> 0 | G14: =SUM(D14*F14) -> 0
D15: ='Klep habis pakai'!G13 -> 0 | E15: ='BUKU PEMBELIAN'!E13 -> 0 | F15: ='BUKU PEMBELIAN'!G13 -> 0 | G15: =SUM(D15*F15) -> 0
D16: ='Klep habis pakai'!G14 -> 0 | E16: ='BUKU PEMBELIAN'!E14 -> 0 | F16: ='BUKU PEMBELIAN'!G14 -> 0 | G16: =SUM(D16*F16) -> 0
D17: ='Klep habis pakai'!G15 -> 0 | E17: ='BUKU PEMBELIAN'!E15 -> 0 | F17: ='BUKU PEMBELIAN'!G15 -> 0 | G17: =SUM(D17*F17) -> 0
D18: ='Klep habis pakai'!G16 -> 0 | E18: ='BUKU PEMBELIAN'!E16 -> 0 | F18: ='BUKU PEMBELIAN'!G16 -> 0 | G18: =SUM(D18*F18) -> 0
